BEGIN:VCALENDAR
PRODID:https://api.parliament.uk/committees
VERSION:2.0
…
BEGIN:VEVENT
DTEND:20260427T193000
DTSTART:20260427T180000
SUMMARY:Untitled
LOCATION:Room 11\, Palace of Westminster
URL:https://api.parliament.uk/committees/events/27164
UID:https://api.parliament.uk/committees/events/27164
DTSTAMP:19971210T080000Z
END:VEVENT
END:VCALENDAR