BEGIN:VCALENDAR
PRODID:https://api.parliament.uk/committees
VERSION:2.0
…
BEGIN:VEVENT
DTEND:20260428T123000
DTSTART:20260428T100000
SUMMARY:Oral Evidence Session
LOCATION:The Wilson Room\, Portcullis House
URL:https://api.parliament.uk/committees/events/27161
UID:https://api.parliament.uk/committees/events/27161
DTSTAMP:19971210T080000Z
END:VEVENT
END:VCALENDAR