BEGIN:VCALENDAR
PRODID:https://api.parliament.uk/committees
VERSION:2.0
…
BEGIN:VEVENT
DTEND:20260428T153000
DTSTART:20260428T130000
SUMMARY:The UK’s development partnership with Nigeria
LOCATION:Room 8\, Palace of Westminster
URL:https://api.parliament.uk/committees/events/27160
UID:https://api.parliament.uk/committees/events/27160
DTSTAMP:19971210T080000Z
END:VEVENT
END:VCALENDAR