BEGIN:VCALENDAR
PRODID:https://api.parliament.uk/committees
VERSION:2.0
…
BEGIN:VEVENT
DTEND:20260429T093000
DTSTART:20260429T090000
SUMMARY:Untitled
LOCATION:Room 216\, Richmond House
URL:https://api.parliament.uk/committees/events/27148
UID:https://api.parliament.uk/committees/events/27148
DTSTAMP:19971210T080000Z
END:VEVENT
END:VCALENDAR