BEGIN:VCALENDAR
PRODID:https://api.parliament.uk/committees
VERSION:2.0
…
BEGIN:VEVENT
DTEND:20260423T151500
DTSTART:20260423T141500
SUMMARY:Untitled
LOCATION:Chairman of Ways and Means&#39; Conference Room
URL:https://api.parliament.uk/committees/events/27144
UID:https://api.parliament.uk/committees/events/27144
DTSTAMP:19971210T080000Z
END:VEVENT
END:VCALENDAR