BEGIN:VCALENDAR
PRODID:https://api.parliament.uk/committees
VERSION:2.0
…
BEGIN:VEVENT
DTEND:20260427T170000
DTSTART:20260427T140000
SUMMARY:Formal Meeting (Oral Evidence Session)
LOCATION:Room 3\, Palace of Westminster
URL:https://api.parliament.uk/committees/events/27142
UID:https://api.parliament.uk/committees/events/27142
DTSTAMP:19971210T080000Z
END:VEVENT
END:VCALENDAR