BEGIN:VCALENDAR
PRODID:https://api.parliament.uk/committees
VERSION:2.0
…
BEGIN:VEVENT
DTEND:20260421T133000
DTSTART:20260421T110000
SUMMARY:Formal meeting (oral evidence session) - 11:00 - 13:30 Tue 21 Apr 2026
LOCATION:Room 1\, Palace of Westminster
URL:https://api.parliament.uk/committees/events/27109
UID:https://api.parliament.uk/committees/events/27109
DTSTAMP:19971210T080000Z
END:VEVENT
END:VCALENDAR