BEGIN:VCALENDAR
PRODID:https://api.parliament.uk/committees
VERSION:2.0
…
BEGIN:VEVENT
DTEND:20260429T163000
DTSTART:20260429T143000
SUMMARY:Oral evidence session
LOCATION:Room 16\, Palace of Westminster
URL:https://api.parliament.uk/committees/events/27080
UID:https://api.parliament.uk/committees/events/27080
DTSTAMP:19971210T080000Z
END:VEVENT
END:VCALENDAR