BEGIN:VCALENDAR
PRODID:https://api.parliament.uk/committees
VERSION:2.0
…
BEGIN:VEVENT
DTEND:20260422T163000
DTSTART:20260422T143000
SUMMARY:Oral evidence session
LOCATION:Room 15\, Palace of Westminster
URL:https://api.parliament.uk/committees/events/26957
UID:https://api.parliament.uk/committees/events/26957
DTSTAMP:19971210T080000Z
END:VEVENT
END:VCALENDAR