BEGIN:VCALENDAR
PRODID:https://api.parliament.uk/committees
VERSION:2.0
…
BEGIN:VEVENT
DTEND:20260429T170000
DTSTART:20260429T140000
SUMMARY:Untitled
LOCATION:On the estate
URL:https://api.parliament.uk/committees/events/26672
UID:https://api.parliament.uk/committees/events/26672
DTSTAMP:19971210T080000Z
END:VEVENT
END:VCALENDAR