BEGIN:VCALENDAR
PRODID:https://api.parliament.uk/committees
VERSION:2.0
…
BEGIN:VEVENT
DTEND:20260421T123000
DTSTART:20260421T091500
SUMMARY:EFRA Committee
LOCATION:Room 6\, Palace of Westminster
URL:https://api.parliament.uk/committees/events/26138
UID:https://api.parliament.uk/committees/events/26138
DTSTAMP:19971210T080000Z
END:VEVENT
END:VCALENDAR